BEGIN:VCALENDAR
VERSION:2.0
PRODID:-//wp-events-plugin.com//7.2.3.1//EN
TZID:America/New_York
X-WR-TIMEZONE:America/New_York
BEGIN:VEVENT
UID:176@jasi.psu.edu
DTSTART;TZID=America/New_York:20210201T083000
DTEND;TZID=America/New_York:20210202T163000
DTSTAMP:20201112T144645Z
URL:https://jasi.psu.edu/cjpt/upcoming-classes/basic-budgeting-4/
SUMMARY:Basic Budgeting
DESCRIPTION: https://jasi.psu.edu/cjpt/upcoming-classes/basic-budgeting-4/
END:VEVENT
BEGIN:VTIMEZONE
TZID:America/New_York
X-LIC-LOCATION:America/New_York
BEGIN:STANDARD
DTSTART:20201101T010000
TZOFFSETFROM:-0400
TZOFFSETTO:-0500
TZNAME:EST
END:STANDARD
END:VTIMEZONE
END:VCALENDAR