BEGIN:VCALENDAR
VERSION:2.0
PRODID:-//wp-events-plugin.com//7.2.3.1//EN
TZID:America/New_York
X-WR-TIMEZONE:America/New_York
BEGIN:VEVENT
UID:448@jasi.psu.edu
DTSTART;TZID=America/New_York:20250224T083000
DTEND;TZID=America/New_York:20250228T163000
DTSTAMP:20241022T171113Z
URL:https://jasi.psu.edu/cjpt/upcoming-classes/instructor-development-2/
SUMMARY:Instructor Development
DESCRIPTION: https://jasi.psu.edu/cjpt/upcoming-classes/instructor-developm
 ent-2/
CATEGORIES:Instructor Development
LOCATION:University of Pennsylvania Police Department\, 4040 Chestnut St.\,
  Philadelphia\, PA 19104
GEO:39.955433;-75.203691
X-APPLE-STRUCTURED-LOCATION;VALUE=URI;X-ADDRESS=4040 Chestnut St.\, Philade
 lphia\, PA\, 19104\, United States;X-APPLE-RADIUS=100;X-TITLE=University o
 f Pennsylvania Police Department:geo:39.955433,-75.203691
END:VEVENT
BEGIN:VTIMEZONE
TZID:America/New_York
X-LIC-LOCATION:America/New_York
BEGIN:STANDARD
DTSTART:20241103T010000
TZOFFSETFROM:-0400
TZOFFSETTO:-0500
TZNAME:EST
END:STANDARD
END:VTIMEZONE
END:VCALENDAR