BEGIN:VCALENDAR
VERSION:2.0
PRODID:-//wp-events-plugin.com//7.2.3.1//EN
TZID:America/New_York
X-WR-TIMEZONE:America/New_York
BEGIN:VEVENT
UID:408@jasi.psu.edu
DTSTART;TZID=America/New_York:20241118T083000
DTEND;TZID=America/New_York:20241122T163000
DTSTAMP:20240611T173609Z
URL:https://jasi.psu.edu/cjpt/upcoming-classes/instructor-development/
SUMMARY:Instructor Development
DESCRIPTION: https://jasi.psu.edu/cjpt/upcoming-classes/instructor-developm
 ent/
CATEGORIES:Instructor Development
LOCATION:Lebanon County Department of Emergency Services\, 1805 Cornwall Rd
 .\, Lebanon\, PA 17042
GEO:40.312754;-76.420583
X-APPLE-STRUCTURED-LOCATION;VALUE=URI;X-ADDRESS=1805 Cornwall Rd.\, Lebanon
 \, PA\, 17042\, United States;X-APPLE-RADIUS=100;X-TITLE=Lebanon County De
 partment of Emergency Services:geo:40.312754,-76.420583
END:VEVENT
BEGIN:VTIMEZONE
TZID:America/New_York
X-LIC-LOCATION:America/New_York
BEGIN:STANDARD
DTSTART:20241103T010000
TZOFFSETFROM:-0400
TZOFFSETTO:-0500
TZNAME:EST
END:STANDARD
END:VTIMEZONE
END:VCALENDAR